BEGIN:VCALENDAR
VERSION:2.0
PRODID:SchoolNow
CALSCALE:GREGORIAN
BEGIN:VEVENT
UID:27eb5a7c-e17f-11ea-9c93-12dc9440cd09
DTSTAMP:20210909T133947Z
SUMMARY:CDD Board Meeting - Sep. 2021 - CANCELLED
LOCATION:Homewood Suites - 10240 Palm River Rd\, Tampa\, FL 33619 with Zoom
  Conference Call Available
URL;VALUE=URI:https://www.magnoliaparkcdd.org/calendar/2311003/cdd-board-me
 eting
DTSTART:20210914T213000Z
DTEND:20210914T230000Z
ATTACH;FILENAME=2021-09-14 Agenda.pdf;FMTTYPE=application/pdf:https://campu
 ssuite-storage.s3.amazonaws.com/prod/1558794/41cf055a-a7de-11e9-a8a7-0a9ba
 80c3a40/2311872/9723c4ea-101f-11ec-9e47-0e373d9d1309/file/2021-09-14 Agend
 a.pdf
END:VEVENT
END:VCALENDAR
