BEGIN:VCALENDAR
VERSION:2.0
PRODID:SchoolNow
CALSCALE:GREGORIAN
BEGIN:VEVENT
UID:3ef76f92-2946-11ed-a83a-0e3e82dcbdf1
DTSTAMP:20230404T175715Z
SUMMARY:CDD Board Meeting - Apr. 11\, 2023
LOCATION:HCC at the Regent - 6437 Watson Road\, Rm. 103\, Riverview\, FL 33
 578
URL;VALUE=URI:https://www.magnoliaparkcdd.org/calendar/3323594/cdd-board-me
 eting-sept-2022-clone-clone-clone-clone-clone-clone-clone
DTSTART:20230411T213000Z
DTEND:20230411T230000Z
ATTACH;FILENAME=2023-04-11 Draft Agenda - MP - original posted 4-4-2023.pdf
 ;FMTTYPE=application/pdf:https://campussuite-storage.s3.amazonaws.com/prod
 /1558794/41cf055a-a7de-11e9-a8a7-0a9ba80c3a40/2576259/fa65c646-d311-11ed-a
 fa3-0a2317488dbd/file/2023-04-11 Draft Agenda - MP - original posted 4-4-2
 023.pdf
END:VEVENT
END:VCALENDAR
