BEGIN:VCALENDAR
VERSION:2.0
PRODID:SchoolNow
CALSCALE:GREGORIAN
BEGIN:VEVENT
UID:b34cc936-534e-11ee-8656-0ae2a935c3d5
DTSTAMP:20231001T120428Z
SUMMARY:CDD Board Meeting - Oct 10\, 2023
LOCATION:HCC at the Regent - 6437 Watson Road\, Rm. 103\, Riverview\, FL 33
 578
URL;VALUE=URI:https://www.magnoliaparkcdd.org/calendar/4737731/cdd-board-me
 eting-oct-10-2023
DTSTART:20231010T213000Z
DTEND:20231010T230000Z
ATTACH;FILENAME=2023-10-10 Draft Agenda - MP posted 10-1.pdf;FMTTYPE=applic
 ation/pdf:https://campussuite-storage.s3.amazonaws.com/prod/1558794/41cf05
 5a-a7de-11e9-a8a7-0a9ba80c3a40/2672820/9deb9052-6052-11ee-967d-0a58a9feac0
 2/file/2023-10-10 Draft Agenda - MP posted 10-1.pdf
END:VEVENT
END:VCALENDAR
