BEGIN:VCALENDAR
VERSION:2.0
PRODID:SchoolNow
CALSCALE:GREGORIAN
BEGIN:VEVENT
UID:ddca06c4-534e-11ee-ac40-0e735600cc31
DTSTAMP:20231108T003555Z
SUMMARY:CDD Board Meeting - Nov 14\, 2023 *Note location*
LOCATION:Homewood Suites Tampa Brandon\, 10240 Palm River Rd\, Tampa\, FL  
 33619
URL;VALUE=URI:https://www.magnoliaparkcdd.org/calendar/4737732/cdd-board-me
 eting-nov-14-2023
DTSTART:20231114T223000Z
DTEND:20231115T000000Z
ATTACH;FILENAME=2023-11-14 Draft Agenda - MP revised 11-7.pdf;FMTTYPE=appli
 cation/pdf:https://campussuite-storage.s3.amazonaws.com/prod/1558794/41cf0
 55a-a7de-11e9-a8a7-0a9ba80c3a40/2697086/b21b30fc-7dce-11ee-b831-0a82f5f141
 13/file/2023-11-14 Draft Agenda - MP revised 11-7.pdf
END:VEVENT
END:VCALENDAR
