BEGIN:VCALENDAR
VERSION:2.0
PRODID:SchoolNow
CALSCALE:GREGORIAN
BEGIN:VEVENT
UID:fd56fee8-534e-11ee-857e-0ea8776c1f05
DTSTAMP:20240221T000302Z
SUMMARY:CDD Board Meeting - Mar 12\, 2023 *CANCELED*
LOCATION:Homewood Suites Tampa Brandon\, 10240 Palm River Rd\, Tampa\, FL  
 33619
URL;VALUE=URI:https://www.magnoliaparkcdd.org/calendar/4737767/cdd-board-me
 eting-mar-12-2023
DTSTART:20240312T213000Z
DTEND:20240312T230000Z
END:VEVENT
END:VCALENDAR
