BEGIN:VCALENDAR
VERSION:2.0
PRODID:SchoolNow
CALSCALE:GREGORIAN
BEGIN:VEVENT
UID:16bf2540-534f-11ee-93d8-0e735600cc31
DTSTAMP:20231205T125445Z
SUMMARY:CDD Board Meeting - Dec 12\, 2023
LOCATION:HCC at the Regent - 6437 Watson Road\, Rm. 103\, Riverview\, FL 33
 578
URL;VALUE=URI:https://www.magnoliaparkcdd.org/calendar/4737768/cdd-board-me
 eting-dec-12-2023
DTSTART:20231212T223000Z
DTEND:20231213T000000Z
ATTACH;FILENAME=2023-12-12 Draft Agenda - MP posted 12-5.pdf;FMTTYPE=applic
 ation/pdf:https://campussuite-storage.s3.amazonaws.com/prod/1558794/41cf05
 5a-a7de-11e9-a8a7-0a9ba80c3a40/2708529/67cd0610-936d-11ee-8732-02e9325ab54
 1/file/2023-12-12 Draft Agenda - MP posted 12-5.pdf
END:VEVENT
END:VCALENDAR
