BEGIN:VCALENDAR
VERSION:2.0
PRODID:SchoolNow
CALSCALE:GREGORIAN
BEGIN:VEVENT
UID:27c278e2-534f-11ee-8ac2-0a58a9feac02
DTSTAMP:20240109T152146Z
SUMMARY:CDD Board Meeting - Jan 9\, 2024 **CANCELED**
LOCATION:HCC at the Regent - 6437 Watson Road\, Rm. 103\, Riverview\, FL 33
 578
URL;VALUE=URI:https://www.magnoliaparkcdd.org/calendar/4737769/cdd-board-me
 eting-jan-9-2024
DTSTART:20240109T223000Z
DTEND:20240110T000000Z
END:VEVENT
END:VCALENDAR
