BEGIN:VCALENDAR
VERSION:2.0
PRODID:SchoolNow
CALSCALE:GREGORIAN
BEGIN:VEVENT
UID:3a1bad7e-534f-11ee-9abf-0a58a9feac02
DTSTAMP:20240212T225407Z
SUMMARY:CDD Board Meeting - Feb 20 2024 **NOTE DATE & LOCATION CHANGE**
LOCATION:HCC at the Regent - 6437 Watson Road\, Rm. 104\, Riverview\, FL 33
 578
URL;VALUE=URI:https://www.magnoliaparkcdd.org/calendar/4737770/cdd-board-me
 eting-feb-13-2024
DTSTART:20240220T223000Z
DTEND:20240220T233000Z
ATTACH;FILENAME=2024-02-20 Draft Agenda - MP posted 2-12.pdf;FMTTYPE=applic
 ation/pdf:https://campussuite-storage.s3.amazonaws.com/prod/1558794/41cf05
 5a-a7de-11e9-a8a7-0a9ba80c3a40/2740457/8f79dbda-c9f9-11ee-903e-0a58a9feac0
 2/file/2024-02-20 Draft Agenda - MP posted 2-12.pdf
END:VEVENT
END:VCALENDAR
