BEGIN:VCALENDAR
VERSION:2.0
PRODID:SchoolNow
CALSCALE:GREGORIAN
BEGIN:VEVENT
UID:48aebec6-534f-11ee-a633-0ae2a935c3d5
DTSTAMP:20240329T211900Z
SUMMARY:CDD Board Meeting - Apr 8\, 2024
LOCATION:HCC at the Regent - 6437 Watson Road\, Rm. 103\, Riverview\, FL 33
 578
URL;VALUE=URI:https://www.magnoliaparkcdd.org/calendar/4737771/cdd-board-me
 eting-apr-8-2024
DTSTART:20240408T213000Z
DTEND:20240408T230000Z
ATTACH;FILENAME=2024-04-8 Draft Agenda - MP.pdf;FMTTYPE=application/pdf:htt
 ps://campussuite-storage.s3.amazonaws.com/prod/1558794/41cf055a-a7de-11e9-
 a8a7-0a9ba80c3a40/2764429/ce93b930-ee11-11ee-ba26-0a58a9feac02/file/2024-0
 4-8 Draft Agenda - MP.pdf
END:VEVENT
END:VCALENDAR
