BEGIN:VCALENDAR
VERSION:2.0
PRODID:SchoolNow
CALSCALE:GREGORIAN
BEGIN:VEVENT
UID:566266c6-534f-11ee-94fc-0ad554c62dc1
DTSTAMP:20240505T213733Z
SUMMARY:CDD Board Meeting - May 13\, 2024
LOCATION:HCC at the Regent - 6437 Watson Road\, Rm. 103\, Riverview\, FL 33
 578
URL;VALUE=URI:https://www.magnoliaparkcdd.org/calendar/4737772/cdd-board-me
 eting-may-13-2024
DTSTART:20240513T213000Z
DTEND:20240513T230000Z
ATTACH;FILENAME=2024-05-13 Draft Agenda - MP.pdf;FMTTYPE=application/pdf:ht
 tps://campussuite-storage.s3.amazonaws.com/prod/1558794/41cf055a-a7de-11e9
 -a8a7-0a9ba80c3a40/2781173/9c23e820-0b27-11ef-a731-0e2d74697af7/file/2024-
 05-13 Draft Agenda - MP.pdf
END:VEVENT
END:VCALENDAR
