BEGIN:VCALENDAR
VERSION:2.0
PRODID:SchoolNow
CALSCALE:GREGORIAN
BEGIN:VEVENT
UID:63b642ac-534f-11ee-8fdb-0a58a9feac02
DTSTAMP:20240522T210021Z
SUMMARY:CDD Board Meeting - Jun 10\, 2024 **CANCELED**
LOCATION:HCC at the Regent - 6437 Watson Road\, Rm. 103\, Riverview\, FL 33
 578
URL;VALUE=URI:https://www.magnoliaparkcdd.org/calendar/4737773/cdd-board-me
 eting-jun-10-2024
DTSTART:20240610T213000Z
DTEND:20240610T230000Z
END:VEVENT
END:VCALENDAR
